BEGIN:VCALENDAR
VERSION:2.0
PRODID:spatie/icalendar-generator
DESCRIPTION:Events from United Church Dorchester
X-WR-CALDESC:Events from United Church Dorchester
REFRESH-INTERVAL;VALUE=DURATION:PT1440M
X-PUBLISHED-TTL:PT1440M
BEGIN:VTIMEZONE
TZID:Europe/London
BEGIN:DAYLIGHT
DTSTART:20220327T010000Z
TZOFFSETFROM:+0000
TZOFFSETTO:+0100
END:DAYLIGHT
BEGIN:STANDARD
DTSTART:20221030T020000Z
TZOFFSETFROM:+0100
TZOFFSETTO:+0000
END:STANDARD
END:VTIMEZONE
BEGIN:VTIMEZONE
TZID:UTC
BEGIN:STANDARD
DTSTART:20250727T074934Z
TZOFFSETFROM:+0000
TZOFFSETTO:+0000
END:STANDARD
END:VTIMEZONE
BEGIN:VEVENT
UID:102-58
DTSTAMP:20260423T074934Z
SUMMARY:Evening worship
LOCATION:United Church Dorchester
ORGANIZER;CN=unitedadmin:MAILTO:admin@unitedchurchdorchester.org.uk
DTSTART;TZID=Europe/London:20220904T183000
DTEND;TZID=Europe/London:20220904T193000
X-ALT-DESC;FMTTYPE=TEXT/HTML:Preacher: Rev. Ruth Lownsbrough Our services c
 ontinue to evolve in the light of updated national guidance on Covid-19. T
 he Sunday evening service continues on a twice-monthly basis\, and starts
  at 6.30pm. It lasts about 45 minutes and everyone in the congregation is 
 now invited to stand when singing. The wearing of masks around the build
 ing\, or during services\,&amp;hellip\;
CATEGORIES:General
URL;VALUE=URI:https://unitedchurchdorchester.org.uk/mc-events/evening-worsh
 ip-4/
METHOD:PUBLISH
END:VEVENT
END:VCALENDAR