BEGIN:VCALENDAR
VERSION:2.0
PRODID:spatie/icalendar-generator
DESCRIPTION:Events from United Church Dorchester
X-WR-CALDESC:Events from United Church Dorchester
REFRESH-INTERVAL;VALUE=DURATION:PT1440M
X-PUBLISHED-TTL:PT1440M
BEGIN:VTIMEZONE
TZID:Europe/London
BEGIN:STANDARD
DTSTART:20221030T020000Z
TZOFFSETFROM:+0100
TZOFFSETTO:+0000
END:STANDARD
BEGIN:DAYLIGHT
DTSTART:20230326T010000Z
TZOFFSETFROM:+0000
TZOFFSETTO:+0100
END:DAYLIGHT
END:VTIMEZONE
BEGIN:VTIMEZONE
TZID:UTC
BEGIN:STANDARD
DTSTART:20250728T133148Z
TZOFFSETFROM:+0000
TZOFFSETTO:+0000
END:STANDARD
END:VTIMEZONE
BEGIN:VEVENT
UID:124-82
DTSTAMP:20260424T133148Z
SUMMARY:Morning worship with Holy Communion
LOCATION:United Church Dorchester
ORGANIZER;CN=unitedadmin:MAILTO:admin@unitedchurchdorchester.org.uk
DTSTART;TZID=Europe/London:20230205T103000
DTEND;TZID=Europe/London:20230205T113000
X-ALT-DESC;FMTTYPE=TEXT/HTML:Preacher: Rev John Yarrien     Additional I
 nformation: Holy Communion (please see the updated guidance sheet for de
 tails of how Communion will be served in the light of Covid) Other than th
 e updated Communion details\, our services now take place without specific
  Covid-19 restrictions. Nevertheless\, the wearing of masks around the bui
 lding\, or during services\, remains a matter&amp;hellip\;
CATEGORIES:General
URL;VALUE=URI:https://unitedchurchdorchester.org.uk/mc-events/morning-worsh
 ip-with-holy-communion-9/
METHOD:PUBLISH
END:VEVENT
END:VCALENDAR