BEGIN:VCALENDAR
VERSION:2.0
PRODID:spatie/icalendar-generator
DESCRIPTION:Events from United Church Dorchester
X-WR-CALDESC:Events from United Church Dorchester
REFRESH-INTERVAL;VALUE=DURATION:PT1440M
X-PUBLISHED-TTL:PT1440M
BEGIN:VTIMEZONE
TZID:Europe/London
BEGIN:STANDARD
DTSTART:20221030T020000Z
TZOFFSETFROM:+0100
TZOFFSETTO:+0000
END:STANDARD
BEGIN:DAYLIGHT
DTSTART:20230326T010000Z
TZOFFSETFROM:+0000
TZOFFSETTO:+0100
END:DAYLIGHT
END:VTIMEZONE
BEGIN:VTIMEZONE
TZID:UTC
BEGIN:STANDARD
DTSTART:20250725T081422Z
TZOFFSETFROM:+0000
TZOFFSETTO:+0000
END:STANDARD
END:VTIMEZONE
BEGIN:VEVENT
UID:154-113
DTSTAMP:20260421T081422Z
SUMMARY:Morning worship
LOCATION:United Church Dorchester
ORGANIZER;CN=unitedadmin:MAILTO:admin@unitedchurchdorchester.org.uk
DTSTART;TZID=Europe/London:20230326T103000
DTEND;TZID=Europe/London:20230326T113000
X-ALT-DESC;FMTTYPE=TEXT/HTML:Preacher: Rev. David Cuckson Additional Inform
 ation:  Our services now take place without specific Covid-19 restriction
 s. Nevertheless\, the wearing of masks around the building\, or during ser
 vices\, remains a matter of personal choice\; and hand gel will be availa
 ble for 'self-service' use by those who so wish. Do join us in the church 
 hall for refreshments after&amp;hellip\;
CATEGORIES:General
URL;VALUE=URI:https://unitedchurchdorchester.org.uk/mc-events/morning-worsh
 ip-40/
METHOD:PUBLISH
END:VEVENT
END:VCALENDAR