BEGIN:VCALENDAR
VERSION:2.0
PRODID:spatie/icalendar-generator
DESCRIPTION:Events from United Church Dorchester
X-WR-CALDESC:Events from United Church Dorchester
REFRESH-INTERVAL;VALUE=DURATION:PT1440M
X-PUBLISHED-TTL:PT1440M
BEGIN:VTIMEZONE
TZID:Europe/London
BEGIN:DAYLIGHT
DTSTART:20230326T010000Z
TZOFFSETFROM:+0000
TZOFFSETTO:+0100
END:DAYLIGHT
BEGIN:STANDARD
DTSTART:20231029T020000Z
TZOFFSETFROM:+0100
TZOFFSETTO:+0000
END:STANDARD
END:VTIMEZONE
BEGIN:VTIMEZONE
TZID:UTC
BEGIN:STANDARD
DTSTART:20250724T082951Z
TZOFFSETFROM:+0000
TZOFFSETTO:+0000
END:STANDARD
END:VTIMEZONE
BEGIN:VEVENT
UID:222-179
DTSTAMP:20260420T082951Z
SUMMARY:Evening worship
LOCATION:United Church Dorchester
ORGANIZER;CN=unitedadmin:MAILTO:admin@unitedchurchdorchester.org.uk
DTSTART;TZID=Europe/London:20230806T183000
DTEND;TZID=Europe/London:20230806T193000
X-ALT-DESC;FMTTYPE=TEXT/HTML:Preacher: Local Arrangement (TBC) Our Sunday e
 vening services continue\, broadly\, on a twice-monthly basis. They start 
 at 6.30pm\, and last about 45 minutes. You may also want to explore the m
 onthly 'Afternoon Tea and Hymns' Services: see the Services Diary for more
  details. Our services now take place without specific Covid-19 restrictio
 ns. Nevertheless\, the wearing of&amp;hellip\;
CATEGORIES:General
URL;VALUE=URI:https://unitedchurchdorchester.org.uk/mc-events/evening-worsh
 ip-19/
METHOD:PUBLISH
END:VEVENT
END:VCALENDAR