BEGIN:VCALENDAR
VERSION:2.0
PRODID:spatie/icalendar-generator
DESCRIPTION:Events from United Church Dorchester
X-WR-CALDESC:Events from United Church Dorchester
REFRESH-INTERVAL;VALUE=DURATION:PT1440M
X-PUBLISHED-TTL:PT1440M
BEGIN:VTIMEZONE
TZID:Europe/London
BEGIN:DAYLIGHT
DTSTART:20230326T010000Z
TZOFFSETFROM:+0000
TZOFFSETTO:+0100
END:DAYLIGHT
BEGIN:STANDARD
DTSTART:20231029T020000Z
TZOFFSETFROM:+0100
TZOFFSETTO:+0000
END:STANDARD
BEGIN:DAYLIGHT
DTSTART:20240331T010000Z
TZOFFSETFROM:+0000
TZOFFSETTO:+0100
END:DAYLIGHT
END:VTIMEZONE
BEGIN:VTIMEZONE
TZID:UTC
BEGIN:STANDARD
DTSTART:20250725T215959Z
TZOFFSETFROM:+0000
TZOFFSETTO:+0000
END:STANDARD
END:VTIMEZONE
BEGIN:VEVENT
UID:242-199
DTSTAMP:20260421T215959Z
SUMMARY:Evening worship with Holy Communion
LOCATION:United Church Dorchester
ORGANIZER;CN=unitedadmin:MAILTO:admin@unitedchurchdorchester.org.uk
DTSTART;TZID=Europe/London:20231015T183000
DTEND;TZID=Europe/London:20231015T193000
X-ALT-DESC;FMTTYPE=TEXT/HTML:Preacher: Rev Ruth Lownsbrough (please see the
  updated guidance sheet for details of how Communion will be served in the
  light of Covid) Our Sunday evening services continue\, broadly\, on a twi
 ce-monthly basis. They start at 6.30pm\, and last about 45 minutes. You m
 ay also want to explore the monthly 'Afternoon Tea and Hymns' Services: se
 e&amp;hellip\;
CATEGORIES:General
URL;VALUE=URI:https://unitedchurchdorchester.org.uk/mc-events/evening-worsh
 ip-with-holy-communion-2/
METHOD:PUBLISH
END:VEVENT
END:VCALENDAR