BEGIN:VCALENDAR
VERSION:2.0
PRODID:spatie/icalendar-generator
DESCRIPTION:Events from United Church Dorchester
X-WR-CALDESC:Events from United Church Dorchester
REFRESH-INTERVAL;VALUE=DURATION:PT1440M
X-PUBLISHED-TTL:PT1440M
BEGIN:VTIMEZONE
TZID:Europe/London
BEGIN:DAYLIGHT
DTSTART:20220327T010000Z
TZOFFSETFROM:+0000
TZOFFSETTO:+0100
END:DAYLIGHT
BEGIN:STANDARD
DTSTART:20221030T020000Z
TZOFFSETFROM:+0100
TZOFFSETTO:+0000
END:STANDARD
END:VTIMEZONE
BEGIN:VTIMEZONE
TZID:UTC
BEGIN:STANDARD
DTSTART:20250727T043329Z
TZOFFSETFROM:+0000
TZOFFSETTO:+0000
END:STANDARD
END:VTIMEZONE
BEGIN:VEVENT
UID:9-10
DTSTAMP:20260423T043329Z
SUMMARY:Morning worship with Holy Communion
LOCATION:United Church Dorchester
ORGANIZER;CN=unitedadmin:MAILTO:admin@unitedchurchdorchester.org.uk
DTSTART;TZID=Europe/London:20220807T103000
DTEND;TZID=Europe/London:20220807T113000
X-ALT-DESC;FMTTYPE=TEXT/HTML:Preacher: Rev. John Yarrien Additional Informa
 tion: Holy Communion (please see the updated guidance sheet for details
  of Communion will be served in the light of Covid) Our services continue 
 to evolve in the light of updated national guidance on Covid-19. The regul
 ar Sunday morning service continues at its usual time of 10.30am\, and ev
 eryone in the congregation is now invited to&amp;hellip\;
CATEGORIES:General
URL;VALUE=URI:https://unitedchurchdorchester.org.uk/mc-events/morning-worsh
 ip-with-holy-communion-2/
METHOD:PUBLISH
END:VEVENT
END:VCALENDAR